BEGIN:VCALENDAR
VERSION:2.0
PRODID:-//AAU - ECPv6.10.1.1//NONSGML v1.0//EN
CALSCALE:GREGORIAN
METHOD:PUBLISH
X-ORIGINAL-URL:https://testing.aau.org
X-WR-CALDESC:Events for AAU
REFRESH-INTERVAL;VALUE=DURATION:PT1H
X-Robots-Tag:noindex
X-PUBLISHED-TTL:PT1H
BEGIN:VTIMEZONE
TZID:UTC
BEGIN:STANDARD
TZOFFSETFROM:+0000
TZOFFSETTO:+0000
TZNAME:UTC
DTSTART:20240101T000000
END:STANDARD
END:VTIMEZONE
BEGIN:VEVENT
DTSTART;TZID=UTC:20241211T080000
DTEND;TZID=UTC:20241211T170000
DTSTAMP:20260421T040546
CREATED:20240205T154825Z
LAST-MODIFIED:20240205T154825Z
UID:5801-1733904000-1733936400@testing.aau.org
SUMMARY:Global Summit on Diamond Open Access: Centering Social Justice to Advance Research as a Public Good
DESCRIPTION:University of Cape Town\, South Africa
URL:https://testing.aau.org/event/global-summit-on-diamond-open-access-centering-social-justice-to-advance-research-as-a-public-good/
CATEGORIES:Meeting
ATTACH;FMTTYPE=image/jpeg:https://testing.aau.org/wp-content/uploads/2022/07/handshake-scaled-1.jpg
END:VEVENT
BEGIN:VEVENT
DTSTART;VALUE=DATE:20241111
DTEND;VALUE=DATE:20241116
DTSTAMP:20260421T040546
CREATED:20240205T154623Z
LAST-MODIFIED:20240205T154623Z
UID:5797-1731283200-1731715199@testing.aau.org
SUMMARY:Africa Universities' Day Celebrations on theme "African Year of Education"
DESCRIPTION:
URL:https://testing.aau.org/event/africa-universities-day-celebrations-on-theme-african-year-of-education/
CATEGORIES:Meeting
ATTACH;FMTTYPE=image/jpeg:https://testing.aau.org/wp-content/uploads/2022/01/muslim-woman-with-macbook.jpeg
END:VEVENT
BEGIN:VEVENT
DTSTART;TZID=UTC:20241002T080000
DTEND;TZID=UTC:20241002T170000
DTSTAMP:20260421T040546
CREATED:20240726T094818Z
LAST-MODIFIED:20240726T094818Z
UID:5951-1727856000-1727888400@testing.aau.org
SUMMARY:Research Integrity and Open Science Dialogue
DESCRIPTION:AAU Secretariat\, Accra by the Partnerships Office
URL:https://testing.aau.org/event/research-integrity-and-open-science-dialogue/
LOCATION:Association of African Universities House\, Trinity Avenue\, Accra\, 233\, Ghana
CATEGORIES:Meeting,Workshop
ATTACH;FMTTYPE=image/jpeg:https://testing.aau.org/wp-content/uploads/2022/01/black-boy-with-laptop-infronnt-of-him.jpeg
END:VEVENT
BEGIN:VEVENT
DTSTART;VALUE=DATE:20240927
DTEND;VALUE=DATE:20240928
DTSTAMP:20260421T040546
CREATED:20240726T094414Z
LAST-MODIFIED:20240726T094414Z
UID:5946-1727395200-1727481599@testing.aau.org
SUMMARY:Launch of the AAU Southern African Regional Office\, Women's University in Africa
DESCRIPTION:Harare\, Zimbabwe by the Partnership Office
URL:https://testing.aau.org/event/launch-of-the-aau-southern-african-regional-office-womens-university-in-africa/
CATEGORIES:Meeting
ATTACH;FMTTYPE=image/jpeg:https://testing.aau.org/wp-content/uploads/2022/01/handshake.jpeg
END:VEVENT
BEGIN:VEVENT
DTSTART;TZID=UTC:20240905T080000
DTEND;TZID=UTC:20240908T170000
DTSTAMP:20260421T040546
CREATED:20240726T094628Z
LAST-MODIFIED:20240726T094628Z
UID:5948-1725523200-1725814800@testing.aau.org
SUMMARY:The 9th Forum on China-Africa Cooperation (FOCAC)
DESCRIPTION:Beijing – China
URL:https://testing.aau.org/event/the-9th-forum-on-china-africa-cooperation-focac/
LOCATION:Beijing\, China
CATEGORIES:Meeting
ATTACH;FMTTYPE=image/jpeg:https://testing.aau.org/wp-content/uploads/2023/07/COREVIP-23.jpg
END:VEVENT
BEGIN:VEVENT
DTSTART;VALUE=DATE:20240722
DTEND;VALUE=DATE:20240726
DTSTAMP:20260421T040546
CREATED:20240205T153442Z
LAST-MODIFIED:20240205T153442Z
UID:5787-1721606400-1721951999@testing.aau.org
SUMMARY:HAQAA III: 2nd Interregional Dialogue on Education and Development in Latin America\, The Caribbean and Africa
DESCRIPTION:
URL:https://testing.aau.org/event/haqaa-iii-2nd-interregional-dialogue-on-education-and-development-in-latin-america-the-caribbean-and-africa/
CATEGORIES:Meeting
ATTACH;FMTTYPE=image/jpeg:https://testing.aau.org/wp-content/uploads/2022/06/Photo-for-Story_Carnegie-event-scaled-1.jpg
END:VEVENT
BEGIN:VEVENT
DTSTART;VALUE=DATE:20240525
DTEND;VALUE=DATE:20240526
DTSTAMP:20260421T040546
CREATED:20240205T152647Z
LAST-MODIFIED:20240205T152647Z
UID:5775-1716595200-1716681599@testing.aau.org
SUMMARY:African Academic and Heritage Fair
DESCRIPTION:
URL:https://testing.aau.org/event/african-academic-and-heritage-fair/
LOCATION:Accra\, Ghana
CATEGORIES:Meeting
ATTACH;FMTTYPE=image/jpeg:https://testing.aau.org/wp-content/uploads/2022/01/africa-map.jpeg
END:VEVENT
BEGIN:VEVENT
DTSTART;VALUE=DATE:20240524
DTEND;VALUE=DATE:20240525
DTSTAMP:20260421T040546
CREATED:20240205T141745Z
LAST-MODIFIED:20240205T141745Z
UID:5773-1716508800-1716595199@testing.aau.org
SUMMARY:Engaging Academic Higher Education Stakeholders to Build Capacities for UA
DESCRIPTION:
URL:https://testing.aau.org/event/engaging-academic-higher-education-stakeholders-to-build-capacities-for-ua/
CATEGORIES:Meeting
ATTACH;FMTTYPE=image/jpeg:https://testing.aau.org/wp-content/uploads/2022/01/Networking-picture.jpeg
END:VEVENT
BEGIN:VEVENT
DTSTART;TZID=UTC:20240515T080000
DTEND;TZID=UTC:20240515T170000
DTSTAMP:20260421T040546
CREATED:20240205T152806Z
LAST-MODIFIED:20240205T152806Z
UID:5777-1715760000-1715792400@testing.aau.org
SUMMARY:GUAF Meeting hosted in China by CAHE
DESCRIPTION:
URL:https://testing.aau.org/event/guaf-meeting-hosted-in-china-by-cahe/
CATEGORIES:Meeting
ATTACH;FMTTYPE=image/png:https://testing.aau.org/wp-content/uploads/2023/08/Group-Photo_-SGCI-Workshop.png
END:VEVENT
BEGIN:VEVENT
DTSTART;VALUE=DATE:20240415
DTEND;VALUE=DATE:20240416
DTSTAMP:20260421T040546
CREATED:20240205T141226Z
LAST-MODIFIED:20240205T141226Z
UID:5766-1713139200-1713225599@testing.aau.org
SUMMARY:Inaugural meeting for members of the Higher Education Data Working Group
DESCRIPTION:
URL:https://testing.aau.org/event/inaugural-meeting-for-members-of-the-higher-education-data-working-group/
CATEGORIES:Meeting
ATTACH;FMTTYPE=image/jpeg:https://testing.aau.org/wp-content/uploads/2023/07/Cover-image-for-COREVIP-2023.jpg
END:VEVENT
BEGIN:VEVENT
DTSTART;VALUE=DATE:20240304
DTEND;VALUE=DATE:20240308
DTSTAMP:20260421T040546
CREATED:20240205T140021Z
LAST-MODIFIED:20240205T140021Z
UID:5750-1709510400-1709855999@testing.aau.org
SUMMARY:Inauguration of the AAU Europe Office at Nottingham University
DESCRIPTION:
URL:https://testing.aau.org/event/inauguration-of-the-aau-europe-office-at-nottingham-university/
LOCATION:Nottingham\, United Kingdom
CATEGORIES:Meeting
ATTACH;FMTTYPE=image/jpeg:https://testing.aau.org/wp-content/uploads/2023/07/COREVIP-23.jpg
END:VEVENT
BEGIN:VEVENT
DTSTART;TZID=UTC:20240205T080000
DTEND;TZID=UTC:20240205T170000
DTSTAMP:20260421T040546
CREATED:20240205T141617Z
LAST-MODIFIED:20240205T141617Z
UID:5770-1707120000-1707152400@testing.aau.org
SUMMARY:Partnership meeting with HCBUs in USA
DESCRIPTION:
URL:https://testing.aau.org/event/partnership-meeting-with-hcbus-in-usa/
LOCATION:usa\, United States
CATEGORIES:Meeting
ATTACH;FMTTYPE=image/jpeg:https://testing.aau.org/wp-content/uploads/2022/01/africa-map.jpeg
END:VEVENT
BEGIN:VEVENT
DTSTART;VALUE=DATE:20240122
DTEND;VALUE=DATE:20240208
DTSTAMP:20260421T040546
CREATED:20240205T132217Z
LAST-MODIFIED:20240205T132217Z
UID:5725-1705881600-1707350399@testing.aau.org
SUMMARY:GUAF Virtual Meeting
DESCRIPTION:
URL:https://testing.aau.org/event/guaf-virtual-meeting/
CATEGORIES:Meeting,Virtual
ATTACH;FMTTYPE=image/jpeg:https://testing.aau.org/wp-content/uploads/2022/06/7th-ACE-Impact-Delgates-scaled-1.jpg
END:VEVENT
END:VCALENDAR